BEGIN:VCALENDAR
VERSION:2.0
PRODID:-//ekioftersheim.de//NONSGML kigkonsult.se iCalcreator 2.41.92//
CALSCALE:GREGORIAN
METHOD:PUBLISH
UID:36356238-3737-4736-b264-383632356132
X-WR-TIMEZONE:Europe/Berlin
X-LIC-LOCATION:Europe/Berlin
BEGIN:VTIMEZONE
TZID:Europe/Berlin
BEGIN:DAYLIGHT
TZOFFSETFROM:+0100
TZOFFSETTO:+0200
TZNAME:CEST
DTSTART:19700329T020000
RRULE:FREQ=YEARLY;BYDAY=-1SU;BYMONTH=3
END:DAYLIGHT
BEGIN:STANDARD
TZOFFSETFROM:+0200
TZOFFSETTO:+0100
TZNAME:CET
DTSTART:19701025T030000
RRULE:FREQ=YEARLY;BYDAY=-1SU;BYMONTH=10
END:STANDARD
END:VTIMEZONE
BEGIN:VEVENT
UID:39633962-3537-4065-b639-333864376663
DTSTAMP:20260421T163218Z
DESCRIPTION:Veranstaltungsort:\n Christuskirche\n Eichendorffstr. 1a\n 6872
 3 Oftersheim
DTSTART;TZID=Europe/Berlin:20260510T100000
DTEND;TZID=Europe/Berlin:20260510T110000
LOCATION:Christuskirche\n - Eichendorffstr. 1a\n - 68723 Oftersheim
SUMMARY:Die Konfirmation der SoulSavers
X-ALT-DESC;FMTTYPE=text/html:Veranstaltungsort: <br />Christuskirche<br />E
 ichendorffstr. 1a<br />68723 Oftersheim
END:VEVENT
END:VCALENDAR
