BEGIN:VCALENDAR
VERSION:2.0
PRODID:-//ekioftersheim.de//NONSGML kigkonsult.se iCalcreator 2.41.92//
CALSCALE:GREGORIAN
METHOD:PUBLISH
UID:37343637-6533-4030-b134-333735663830
X-WR-TIMEZONE:Europe/Berlin
X-LIC-LOCATION:Europe/Berlin
BEGIN:VTIMEZONE
TZID:Europe/Berlin
BEGIN:DAYLIGHT
TZOFFSETFROM:+0100
TZOFFSETTO:+0200
TZNAME:CEST
DTSTART:19700329T020000
RRULE:FREQ=YEARLY;BYDAY=-1SU;BYMONTH=3
END:DAYLIGHT
BEGIN:STANDARD
TZOFFSETFROM:+0200
TZOFFSETTO:+0100
TZNAME:CET
DTSTART:19701025T030000
RRULE:FREQ=YEARLY;BYDAY=-1SU;BYMONTH=10
END:STANDARD
END:VTIMEZONE
BEGIN:VEVENT
UID:37623261-3763-4834-b063-323834636366
DTSTAMP:20260421T144748Z
DESCRIPTION:Pflichttermin SoulSavers\n \n Veranstaltungsort:\n Christuskirc
 he\n Eichendorffstr. 1a\n 68723 Oftersheim
DTSTART;TZID=Europe/Berlin:20260506T163000
DTEND;TZID=Europe/Berlin:20260506T183000
LOCATION:Christuskirche\n - Eichendorffstr. 1a\n - 68723 Oftersheim
SUMMARY:Letzte Absprachen für die Konfirmation
X-ALT-DESC;FMTTYPE=text/html:Pflichttermin SoulSavers<br /><br />Veranstalt
 ungsort: <br />Christuskirche<br />Eichendorffstr. 1a<br />68723 Oftershei
 m
END:VEVENT
END:VCALENDAR
