BEGIN:VCALENDAR
VERSION:2.0
PRODID:-//ekioftersheim.de//NONSGML kigkonsult.se iCalcreator 2.41.92//
CALSCALE:GREGORIAN
METHOD:PUBLISH
UID:39313535-3739-4664-b262-393431363362
X-WR-TIMEZONE:Europe/Berlin
X-LIC-LOCATION:Europe/Berlin
BEGIN:VTIMEZONE
TZID:Europe/Berlin
BEGIN:DAYLIGHT
TZOFFSETFROM:+0100
TZOFFSETTO:+0200
TZNAME:CEST
DTSTART:19700329T020000
RRULE:FREQ=YEARLY;BYDAY=-1SU;BYMONTH=3
END:DAYLIGHT
BEGIN:STANDARD
TZOFFSETFROM:+0200
TZOFFSETTO:+0100
TZNAME:CET
DTSTART:19701025T030000
RRULE:FREQ=YEARLY;BYDAY=-1SU;BYMONTH=10
END:STANDARD
END:VTIMEZONE
BEGIN:VEVENT
UID:30643330-3439-4166-a438-313434383763
DTSTAMP:20260421T145623Z
DESCRIPTION:Wahlmodul Soulsavers\n \n Was erwartet mich? Wenn Gott gut ist 
 – warum gibt es dann so viel Leid auf der Welt? Diese Frage beschäftigt Me
 nschen seit Jahrhunderten. In diesem Modul gehen wir dem Geheimnis nach: W
 o ist Gott\, wenn’s schwer wird?\n \n Veranstaltungsort:\n Evangelisches G
 emeindehaus\n Schwetzinger Str. 5\n 68723 Plankstadt\n \n Veranstalter:\n 
 Kooperationsraum Nordwest
DTSTART;TZID=Europe/Berlin:20260423T163000
DTEND;TZID=Europe/Berlin:20260423T183000
LOCATION:Evangelisches Gemeindehaus\n - Schwetzinger Str. 5\n - 68723 Plank
 stadt
SUMMARY:Allmacht vs. Ohnmacht - Theodizee
X-ALT-DESC;FMTTYPE=text/html:Wahlmodul Soulsavers<br /><br />Was erwartet m
 ich?\n Wenn Gott gut ist – warum gibt es dann so viel Leid auf der Welt? D
 iese Frage beschäftigt Menschen seit Jahrhunderten. In diesem Modul gehen 
 wir dem Geheimnis nach: Wo ist Gott\, wenn’s schwer wird?<br /><br />Veran
 staltungsort: <br />Evangelisches Gemeindehaus<br />Schwetzinger Str. 5<br
  />68723 Plankstadt<br /><br />Veranstalter: <br />Kooperationsraum Nordwe
 st
END:VEVENT
END:VCALENDAR
