BEGIN:VCALENDAR
VERSION:2.0
PRODID:-//ekioftersheim.de//NONSGML kigkonsult.se iCalcreator 2.41.92//
CALSCALE:GREGORIAN
METHOD:PUBLISH
UID:35346334-3962-4065-b039-386535393334
X-WR-TIMEZONE:Europe/Berlin
X-LIC-LOCATION:Europe/Berlin
BEGIN:VTIMEZONE
TZID:Europe/Berlin
BEGIN:DAYLIGHT
TZOFFSETFROM:+0100
TZOFFSETTO:+0200
TZNAME:CEST
DTSTART:19700329T020000
RRULE:FREQ=YEARLY;BYDAY=-1SU;BYMONTH=3
END:DAYLIGHT
BEGIN:STANDARD
TZOFFSETFROM:+0200
TZOFFSETTO:+0100
TZNAME:CET
DTSTART:19701025T030000
RRULE:FREQ=YEARLY;BYDAY=-1SU;BYMONTH=10
END:STANDARD
END:VTIMEZONE
BEGIN:VEVENT
UID:38373938-3734-4934-a638-376465613465
DTSTAMP:20260421T162833Z
DESCRIPTION:Wahlmodul Soulsavers\n \n Was erwartet mich? Abraham wurde gese
 gnet\, Issak und Jakob auch. Jesus hat viele Menschen gesegnet. Und auch i
 hr seid gesegnet.\n \n Veranstaltungsort:\n Evangelisches Gemeindehaus\n H
 auptstr. 56\n 69214 Eppelheim\n \n Veranstalter:\n Kooperationsraum Nordwe
 st
DTSTART;TZID=Europe/Berlin:20260421T163000
DTEND;TZID=Europe/Berlin:20260421T183000
LOCATION:Evangelisches Gemeindehaus\n - Hauptstr. 56\n - 69214 Eppelheim
SUMMARY:Segen - Im Auftrag des Herrn
X-ALT-DESC;FMTTYPE=text/html:Wahlmodul Soulsavers<br /><br />Was erwartet m
 ich? Abraham wurde gesegnet\, Issak und Jakob auch. Jesus hat viele Mensch
 en gesegnet. Und auch ihr seid gesegnet.<br /><br />Veranstaltungsort: <br
  />Evangelisches Gemeindehaus<br />Hauptstr. 56<br />69214 Eppelheim<br />
 <br />Veranstalter: <br />Kooperationsraum Nordwest
END:VEVENT
END:VCALENDAR
